BEGIN:VCALENDAR
VERSION:2.0
PRODID:-//Sentido Animal - ECPv6.15.10//NONSGML v1.0//EN
CALSCALE:GREGORIAN
METHOD:PUBLISH
X-ORIGINAL-URL:https://www.sentidoanimal.es
X-WR-CALDESC:Eventos para Sentido Animal
REFRESH-INTERVAL;VALUE=DURATION:PT1H
X-Robots-Tag:noindex
X-PUBLISHED-TTL:PT1H
BEGIN:VTIMEZONE
TZID:Europe/Madrid
BEGIN:DAYLIGHT
TZOFFSETFROM:+0100
TZOFFSETTO:+0200
TZNAME:CEST
DTSTART:20250330T010000
END:DAYLIGHT
BEGIN:STANDARD
TZOFFSETFROM:+0200
TZOFFSETTO:+0100
TZNAME:CET
DTSTART:20251026T010000
END:STANDARD
BEGIN:DAYLIGHT
TZOFFSETFROM:+0100
TZOFFSETTO:+0200
TZNAME:CEST
DTSTART:20260329T010000
END:DAYLIGHT
BEGIN:STANDARD
TZOFFSETFROM:+0200
TZOFFSETTO:+0100
TZNAME:CET
DTSTART:20261025T010000
END:STANDARD
BEGIN:DAYLIGHT
TZOFFSETFROM:+0100
TZOFFSETTO:+0200
TZNAME:CEST
DTSTART:20270328T010000
END:DAYLIGHT
BEGIN:STANDARD
TZOFFSETFROM:+0200
TZOFFSETTO:+0100
TZNAME:CET
DTSTART:20271031T010000
END:STANDARD
END:VTIMEZONE
BEGIN:VEVENT
DTSTART;TZID=Europe/Madrid:20260131T103000
DTEND;TZID=Europe/Madrid:20260131T130000
DTSTAMP:20260423T230749
CREATED:20250821T175539Z
LAST-MODIFIED:20251229T102011Z
UID:17044-1769855400-1769864400@www.sentidoanimal.es
SUMMARY:Senderismo temático: cumpliendo objetivos
DESCRIPTION:¿Sientes la presión del «año nuevo\, vida nueva»? Enero suele llegar cargado de exigencias\, listas de propósitos y una vuelta a la rutina que a veces se hace cuesta arriba. Tras el ajetreo de las fiestas\, tu perra y tú no necesitáis más estrés; necesitáis aire puro\, movimiento y volver a sintonizar vuestra frecuencia. \nEste senderismo no es solo una ruta por la sierra; es un ritual de inicio. Una oportunidad para sacudirnos el «caos» navideño y establecer\, con calma y consciencia\, las bases de la convivencia que queréis disfrutar durante todo el 2026. \n¿Qué trabajaremos en esta salida?\nAprovecharemos el entorno natural para profundizar en tres pilares clave\, lejos de las cuatro paredes de casa: \n\n\nDescompresión post-fiestas: aprenderemos a identificar y gestionar la «resaca emocional» que pueden dejar los excesos navideños (ruidos\, visitas\, viajes). Practicaremos ejercicios de olfato y calma para ayudar a tu perra/o a recuperar su equilibrio natural. \n\n\nRutinas de calidad: romperemos el mito de que «rutina es aburrimiento». Te enseñaremos a diseñar paseos que nutran su mente y enriquezcan vuestro día a día\, sin necesidad de dedicar horas extra. \n\n\nConexión voluntaria: olvídate de las órdenes constantes. Practicaremos juegos de atención mutua para fomentar que tu perra elija conectar contigo\, reforzando el vínculo cooperativo desde el primer mes del año. \n\n\n \n\n \n¿Para quién es esta experiencia?\nEste evento es para ti si quieres empezar el 2026 con el pie derecho\, si sientes que la rutina os ha desconectado un poco últimamente\, o si simplemente quieres regalarte una mañana de comunidad\, aprendizaje y naturaleza en compañía de otras familias que entienden a los perros como tú. \nUna inversión en vuestra tranquilidad\nEste evento es para ti si quieres cerrar el año reforzando tu vínculo\, si buscas herramientas concretas para las reuniones familiares o si\, simplemente\, necesitas una excusa para regalarte a ti y a tu perro una mañana de paz y naturaleza en medio del caos festivo. \nDetalles de la Ruta:\n\nFecha: sábado\, 31 de enero de 2026.\nLugar: Sierra de Madrid (se mandará ubicación a las personas participantes).\nDificultad: media-baja. Priorizamos la observación y la calma sobre la distancia física.\nMaterial: correa larga (mínimo 3-5 metros)\, arnés cómodo\, agua abundante\, premios de alto valor y ropa de abrigo por capas.\n\nInscripción y Plazas\nComo siempre\, las plazas son muy limitadas para garantizar una experiencia de calidad y un acompañamiento cercano. \n\nPrecio General: 25€ por perro/a + familia humana.\nPrecio para miembros de La Tribu: 22€ (recuerda iniciar sesión para aplicar tu descuento)\n\nRegálate la conexión que merecéis. ¡Nos vemos en el monte!
URL:https://www.sentidoanimal.es/evento/senderismo-tematico-cumpliendo-objetivos/
LOCATION:Estación de Las Navas del Marqués\, Estación de Las Navas del Marqués\, Las Navas del Marqués\, Ávila\, 05230\, España
CATEGORIES:Próximas salidas de socialización,Senderismo con perros
ATTACH;FMTTYPE=image/jpeg:https://www.sentidoanimal.es/wp-content/uploads/2025/08/Senderismo_ene26.jpg
END:VEVENT
END:VCALENDAR