BEGIN:VCALENDAR
VERSION:2.0
PRODID:-//Sentido Animal - ECPv6.15.10//NONSGML v1.0//EN
CALSCALE:GREGORIAN
METHOD:PUBLISH
X-WR-CALNAME:Sentido Animal
X-ORIGINAL-URL:https://www.sentidoanimal.es
X-WR-CALDESC:Eventos para Sentido Animal
REFRESH-INTERVAL;VALUE=DURATION:PT1H
X-Robots-Tag:noindex
X-PUBLISHED-TTL:PT1H
BEGIN:VTIMEZONE
TZID:Europe/Madrid
BEGIN:DAYLIGHT
TZOFFSETFROM:+0100
TZOFFSETTO:+0200
TZNAME:CEST
DTSTART:20210328T010000
END:DAYLIGHT
BEGIN:STANDARD
TZOFFSETFROM:+0200
TZOFFSETTO:+0100
TZNAME:CET
DTSTART:20211031T010000
END:STANDARD
BEGIN:DAYLIGHT
TZOFFSETFROM:+0100
TZOFFSETTO:+0200
TZNAME:CEST
DTSTART:20220327T010000
END:DAYLIGHT
BEGIN:STANDARD
TZOFFSETFROM:+0200
TZOFFSETTO:+0100
TZNAME:CET
DTSTART:20221030T010000
END:STANDARD
BEGIN:DAYLIGHT
TZOFFSETFROM:+0100
TZOFFSETTO:+0200
TZNAME:CEST
DTSTART:20230326T010000
END:DAYLIGHT
BEGIN:STANDARD
TZOFFSETFROM:+0200
TZOFFSETTO:+0100
TZNAME:CET
DTSTART:20231029T010000
END:STANDARD
END:VTIMEZONE
BEGIN:VEVENT
DTSTART;VALUE=DATE:20220704
DTEND;VALUE=DATE:20220705
DTSTAMP:20260425T023641
CREATED:20211117T173441Z
LAST-MODIFIED:20211117T173441Z
UID:10570-1656892800-1656979199@www.sentidoanimal.es
SUMMARY:Curso profesional de Técnico/a en Intervenciones Asistidas con Animales - jul22
DESCRIPTION:Cada vez más\, las intervenciones asistidas con animales van formando parte del día a día de muchas personas con dificultades\, que encuentran en su contacto con los animales la motivación necesaria\, el vínculo\, el afecto y la ausencia de juicios necesarios para continuar avanzando. \nLa labor del técnico es fundamental para garantizar el bienestar del animal con el que se trabaja y para servir como enlace con el experto para conseguir una sesión fructífera en programas y actividades de esta índole.inter \nTe preparamos en un curso online con prácticas presenciales para trabajar en una profesión que aúna la pasión por los animales con el trabajo social y educativo. \n \nDestinatarios\n\nPersonas apasionadas por el mundo animal y la inquietud de querer mejorar la vida de las personas destinatarias de las sesiones.\nProfesionales interesados en ampliar conocimientos y formación en relación con las IAA.\nAlumnos de monográficos\, seminarios o cursos sin prácticas o con un número reducido de horas sobre las intervenciones asistidas con animales.\nNo es necesario estar en posesión de ningún título universitario.\n\nObjetivos\n\nProporcionar a los alumnos las herramientas necesarias para formar parte de un equipo de IAA como técnico\, en sesiones dirigidas a diferentes colectivos.\nConocer las bases históricas  de las Intervenciones Asistidas con Animales.\nInteriorizar la metodología\, protocolos\, objetivos y beneficios a identificar en las Intervenciones Asistidas con Animales.\nConocer los animales y colectivos que participan en Intervenciones Asistidas con Animales.\nConocer en profundidad el lenguaje y comportamiento canino para garantizar el bienestar del perro y lograr el éxito durante las sesiones.\nAdquirir herramientas para afrontar posibles imprevistos durante la sesión.\nAprender la metodología de entrenamiento dirigida a los perros de terapia.\nAprender el diseño\, programación\, desarrollo y evaluación como técnicos en los programas de Intervenciones Asistidas con Animales.\nDeterminar la selección del perro adecuado para cada tipo de programa o actividad.\nConseguir nuevos comportamientos y mantener alta su motivación mediante un entrenamiento en positivo\, amable y basado en la confianza y la cooperación.\nRealizar prácticas en sesiones reales experimentando de primera mano el trabajo de técnico/a en IAA.\n\nEstructura del curso\nEl curso tendrá una duración de 195 horas repartidas de la siguiente manera: \n\n30 horas teoría sobre las IAA.\n35 horas específicas de Técnico en IAA\n35 horas de tutorías\, ejercicios y autoevaluaciones\n65 horas de adiestramiento del perro de IAA\n30 horas de prácticas de técnico (20h en sesiones simuladas en la escuela y 10h en sesiones reales. Planificación\, realización\, evaluación…)\n\nPrecio\n\nEl precio del curso completo es de 1.495 €\n\n-10% en modalidad de pago único\, antes del día 01 del mes anterior al inicio del curso.\nFacilidades de pago aplazado: Matrícula + 5 pagos mensuales.\n\n\n\nConsulta más información aquí.asi
URL:https://www.sentidoanimal.es/evento/curso-profesional-de-tecnico-a-en-intervenciones-asistidas-con-animales-4/
LOCATION:Formación online\, En tu ciudad\, En tu provincia\, Spain
CATEGORIES:Cursos profesionales,Cursos profesionales de Intervenciones Asistidas con Animales,Formación online,Próximos cursos profesionales
ATTACH;FMTTYPE=:
END:VEVENT
END:VCALENDAR