BEGIN:VCALENDAR
VERSION:2.0
PRODID:-//Sentido Animal - ECPv6.15.10//NONSGML v1.0//EN
CALSCALE:GREGORIAN
METHOD:PUBLISH
X-WR-CALNAME:Sentido Animal
X-ORIGINAL-URL:https://www.sentidoanimal.es
X-WR-CALDESC:Eventos para Sentido Animal
REFRESH-INTERVAL;VALUE=DURATION:PT1H
X-Robots-Tag:noindex
X-PUBLISHED-TTL:PT1H
BEGIN:VTIMEZONE
TZID:Europe/Madrid
BEGIN:DAYLIGHT
TZOFFSETFROM:+0100
TZOFFSETTO:+0200
TZNAME:CEST
DTSTART:20170326T010000
END:DAYLIGHT
BEGIN:STANDARD
TZOFFSETFROM:+0200
TZOFFSETTO:+0100
TZNAME:CET
DTSTART:20171029T010000
END:STANDARD
BEGIN:DAYLIGHT
TZOFFSETFROM:+0100
TZOFFSETTO:+0200
TZNAME:CEST
DTSTART:20180325T010000
END:DAYLIGHT
BEGIN:STANDARD
TZOFFSETFROM:+0200
TZOFFSETTO:+0100
TZNAME:CET
DTSTART:20181028T010000
END:STANDARD
BEGIN:DAYLIGHT
TZOFFSETFROM:+0100
TZOFFSETTO:+0200
TZNAME:CEST
DTSTART:20190331T010000
END:DAYLIGHT
BEGIN:STANDARD
TZOFFSETFROM:+0200
TZOFFSETTO:+0100
TZNAME:CET
DTSTART:20191027T010000
END:STANDARD
END:VTIMEZONE
BEGIN:VEVENT
DTSTART;TZID=Europe/Madrid:20180906T180000
DTEND;TZID=Europe/Madrid:20180906T193000
DTSTAMP:20260419T224046
CREATED:20180810T121212Z
LAST-MODIFIED:20180810T121212Z
UID:6550-1536256800-1536262200@www.sentidoanimal.es
SUMMARY:Escuela de técnicos
DESCRIPTION:La escuela de técnicos abre sus puertas después del verano para ofrecerte un lugar donde crecer profesionalmente y darte las herramientas y habilidades necesarias\, para ti y para tu perrete\, para mejorar en las sesiones y reducir el estrés o nerviosismo mediante la sobrada preparación de del equipo técnico-perro.. \n¿Qué hacemos en las clases?\nPrepararos en ejercicios habituales necesarios en las sesiones de Intervenciones Asistidas con Animales\, replicando sesiones de los diferentes programas o planteando nuevos con retos donde trabajar y preparar a los perros con un entrenamiento cooperativo. \n\nGrupos reducidos: máximo 6 perros por monitor/a.\nEjercicios prácticos enfocados en las necesidades de tus sesiones profesionales y en actividades concretas que quieras trabajar.\nSimulaciones de sesiones con diferentes colectivos: donde poder evaluar los posicionamientos\, las mejores composiciones y gestión del espacio en sala\, las zonas de descanso\, etc..\nTrabajo de varios perros en sesión: cómo gestionar los espacios de descanso y la desconexión del perro mientras está descansando.\nEntrenamiento cooperativo con tu perro\, fortaleciendo el vínculo\, las ganas de trabajar contigo y su seguridad\, así como evaluación de sus requerimientos y tipos de sesiones adecuadas para él/ella.\n\n¿Quién puede apuntarse?\n\nTécnicos en Intervenciones Asistidas con Animales con título en su poder\, que necesiten preparar a su perro/a para el trabajo real en sesión.\nTécnicos en Intervenciones Asistidas con Animales que estén en activo y necesiten una mayor preparación para la reducción de estrés del animal o para pulir ejercicios habituales.\nTécnicos en Intervenciones Asistidas con Animales que necesiten preparar sesiones o ejercicios específicos y que requieran una mayor atención en el entrenamiento.\n\nFechas y horarios\nJueves\, de 18h a 19:30h. \nPrecio\n\nCurso completo (12 sesiones): 199 € por perro\n2º perro o sucesivos: -25%\nMeses sueltos: 70 € por perro
URL:https://www.sentidoanimal.es/evento/escuela-de-tecnicos/
LOCATION:Escuela Sentido Animal\, C/ Valdemorillo 35\, Alcorcón\, Madrid\, 28925\, España
CATEGORIES:Cursos profesionales,Próximos cursos profesionales
ATTACH;FMTTYPE=:
END:VEVENT
END:VCALENDAR