BEGIN:VCALENDAR
VERSION:2.0
PRODID:-//Sentido Animal - ECPv6.15.10//NONSGML v1.0//EN
CALSCALE:GREGORIAN
METHOD:PUBLISH
X-WR-CALNAME:Sentido Animal
X-ORIGINAL-URL:https://www.sentidoanimal.es
X-WR-CALDESC:Eventos para Sentido Animal
REFRESH-INTERVAL;VALUE=DURATION:PT1H
X-Robots-Tag:noindex
X-PUBLISHED-TTL:PT1H
BEGIN:VTIMEZONE
TZID:Europe/Madrid
BEGIN:DAYLIGHT
TZOFFSETFROM:+0100
TZOFFSETTO:+0200
TZNAME:CEST
DTSTART:20180325T010000
END:DAYLIGHT
BEGIN:STANDARD
TZOFFSETFROM:+0200
TZOFFSETTO:+0100
TZNAME:CET
DTSTART:20181028T010000
END:STANDARD
BEGIN:DAYLIGHT
TZOFFSETFROM:+0100
TZOFFSETTO:+0200
TZNAME:CEST
DTSTART:20190331T010000
END:DAYLIGHT
BEGIN:STANDARD
TZOFFSETFROM:+0200
TZOFFSETTO:+0100
TZNAME:CET
DTSTART:20191027T010000
END:STANDARD
BEGIN:DAYLIGHT
TZOFFSETFROM:+0100
TZOFFSETTO:+0200
TZNAME:CEST
DTSTART:20200329T010000
END:DAYLIGHT
BEGIN:STANDARD
TZOFFSETFROM:+0200
TZOFFSETTO:+0100
TZNAME:CET
DTSTART:20201025T010000
END:STANDARD
END:VTIMEZONE
BEGIN:VEVENT
DTSTART;TZID=Europe/Madrid:20190630T100000
DTEND;TZID=Europe/Madrid:20190630T130000
DTSTAMP:20260419T230317
CREATED:20190608T180821Z
LAST-MODIFIED:20190608T180821Z
UID:7942-1561888800-1561899600@www.sentidoanimal.es
SUMMARY:Senderismo con perros - junio 2019
DESCRIPTION:Campo\, pinos\, un lago y mucho espacio para corretear… El día 30 de junio volvemos a hacer una ruta maravillosa por Las Navas del Marqués\, ideal para perretes que no tienen problemas de comportamiento acusados con otros perros ni con personas. \nPasaremos una buena mañana haciendo senderismo y trabajando autocontrol\, controlando las interacciones y los juegos excesivos\, acompañando a los perros que lo necesiten a disfrutar de un chapuzón (¡siempre que quieran ellos!) y ¡hablando de perros! \nPrecio \n12 € por perro y 3 € por persona.
URL:https://www.sentidoanimal.es/evento/senderismo-con-perros-junio-2019/
CATEGORIES:Próximas salidas de socialización
ATTACH;FMTTYPE=:
END:VEVENT
END:VCALENDAR