BEGIN:VCALENDAR
VERSION:2.0
PRODID:-//Sentido Animal - ECPv6.15.10//NONSGML v1.0//EN
CALSCALE:GREGORIAN
METHOD:PUBLISH
X-WR-CALNAME:Sentido Animal
X-ORIGINAL-URL:https://www.sentidoanimal.es
X-WR-CALDESC:Eventos para Sentido Animal
REFRESH-INTERVAL;VALUE=DURATION:PT1H
X-Robots-Tag:noindex
X-PUBLISHED-TTL:PT1H
BEGIN:VTIMEZONE
TZID:Europe/Madrid
BEGIN:DAYLIGHT
TZOFFSETFROM:+0100
TZOFFSETTO:+0200
TZNAME:CEST
DTSTART:20210328T010000
END:DAYLIGHT
BEGIN:STANDARD
TZOFFSETFROM:+0200
TZOFFSETTO:+0100
TZNAME:CET
DTSTART:20211031T010000
END:STANDARD
BEGIN:DAYLIGHT
TZOFFSETFROM:+0100
TZOFFSETTO:+0200
TZNAME:CEST
DTSTART:20220327T010000
END:DAYLIGHT
BEGIN:STANDARD
TZOFFSETFROM:+0200
TZOFFSETTO:+0100
TZNAME:CET
DTSTART:20221030T010000
END:STANDARD
BEGIN:DAYLIGHT
TZOFFSETFROM:+0100
TZOFFSETTO:+0200
TZNAME:CEST
DTSTART:20230326T010000
END:DAYLIGHT
BEGIN:STANDARD
TZOFFSETFROM:+0200
TZOFFSETTO:+0100
TZNAME:CET
DTSTART:20231029T010000
END:STANDARD
END:VTIMEZONE
BEGIN:VEVENT
DTSTART;TZID=Europe/Madrid:20221113T120000
DTEND;TZID=Europe/Madrid:20221113T140000
DTSTAMP:20260423T132828
CREATED:20221025T162214Z
LAST-MODIFIED:20221025T162214Z
UID:12687-1668340800-1668348000@www.sentidoanimal.es
SUMMARY:Taller: Juegos y juguetes
DESCRIPTION:¡Regresa el tema favorito para nuestros perros! Durante este mes\, trabajaremos un puñado de comportamientos relacionados con el juego\, el vínculo y  enseñamos con gusto con el juego. Además\, hemos incorporado al taller un apartado para aprender a hacer tus propios juguetes\, y continuar educando con el juego. \n \n¿Qué aprenderemos?\n\nMotivación por el juego\nAutocontrol y atención a quien guía\nSeñales de inicio y fin de juego\nJuegos cooperativos y fortalecimiento de vínculo\nEl juego como reforzador de comportamientos\nRealización de juguetes caseros saludables y educativos\n\nFechas y horarios del curso\n\nDomingo 13 de noviembre (12h00 – 14h00).\n\n¿Qué necesitas para el curso?\n\nJuguetes motivantes para tu perro de diferentes texturas\, tamaños\, etc.. ¡Disponemos de ellos en la escuela\, pero puedes traer los tuyos si quieres!\nCuenco de agua.\nCollar/arnés y correa habituales.\n\nPlazas limitadas\nPara continuar con nuestra filosofía de clases grupales personalizadas\, el máximo de perros por curso será 6\, pudiendo venir hasta 2 personas por perro/a.
URL:https://www.sentidoanimal.es/evento/taller-juegos-y-juguetes/
LOCATION:Escuela Sentido Animal\, C/ Valdemorillo 35\, Alcorcón\, Madrid\, 28925\, España
CATEGORIES:Adiestramiento canino,Próximos talleres y webinarios
ATTACH;FMTTYPE=:
END:VEVENT
END:VCALENDAR